BEGIN:VCALENDAR
VERSION:2.0
PRODID:-// - ECPv6.15.20//NONSGML v1.0//EN
CALSCALE:GREGORIAN
METHOD:PUBLISH
X-ORIGINAL-URL:https://westsalemil.com
X-WR-CALDESC:Events for 
REFRESH-INTERVAL;VALUE=DURATION:PT1H
X-Robots-Tag:noindex
X-PUBLISHED-TTL:PT1H
BEGIN:VTIMEZONE
TZID:America/Chicago
BEGIN:DAYLIGHT
TZOFFSETFROM:-0600
TZOFFSETTO:-0500
TZNAME:CDT
DTSTART:20230312T080000
END:DAYLIGHT
BEGIN:STANDARD
TZOFFSETFROM:-0500
TZOFFSETTO:-0600
TZNAME:CST
DTSTART:20231105T070000
END:STANDARD
BEGIN:DAYLIGHT
TZOFFSETFROM:-0600
TZOFFSETTO:-0500
TZNAME:CDT
DTSTART:20240310T080000
END:DAYLIGHT
BEGIN:STANDARD
TZOFFSETFROM:-0500
TZOFFSETTO:-0600
TZNAME:CST
DTSTART:20241103T070000
END:STANDARD
BEGIN:DAYLIGHT
TZOFFSETFROM:-0600
TZOFFSETTO:-0500
TZNAME:CDT
DTSTART:20250309T080000
END:DAYLIGHT
BEGIN:STANDARD
TZOFFSETFROM:-0500
TZOFFSETTO:-0600
TZNAME:CST
DTSTART:20251102T070000
END:STANDARD
END:VTIMEZONE
BEGIN:VEVENT
DTSTART;TZID=America/Chicago:20240805T100000
DTEND;TZID=America/Chicago:20240805T103000
DTSTAMP:20260419T212626
CREATED:20240723T214724Z
LAST-MODIFIED:20240723T214724Z
UID:529-1722852000-1722853800@westsalemil.com
SUMMARY:Public Hearing on Sewer Lagoon Grant
DESCRIPTION:A public hearing on the close-out of a Community Development Block Grant for the reconstruction of the south sewer lagoon in West Salem.  Call Greater Wabash Regional Planning Commission at 618-445-3612 for more information
URL:https://westsalemil.com/event/public-hearing-on-sewer-lagoon-grant/
LOCATION:Village Hall\, 106 E. South Street\, West Salem\, IL\, 62476\, United States
END:VEVENT
BEGIN:VEVENT
DTSTART;TZID=America/Chicago:20240802T090000
DTEND;TZID=America/Chicago:20240802T120000
DTSTAMP:20260419T212626
CREATED:20240623T213135Z
LAST-MODIFIED:20240623T213135Z
UID:472-1722589200-1722600000@westsalemil.com
SUMMARY:Farmer's Market
DESCRIPTION:A weekly Farmer’s Market held on Friday mornings throughout the Summer. Vendors vary from week to week\, but typically include Bullard’s Farm Market and Bakery out of Fairfield. While you are here\, be sure to check out Carter Farms Country Market on the north end of the Square\, too.
URL:https://westsalemil.com/event/farmers-market-6/
LOCATION:West Salem Square\, 100 South Street\, West Salem\, IL\, 62476\, United States
END:VEVENT
BEGIN:VEVENT
DTSTART;TZID=America/Chicago:20240727T090000
DTEND;TZID=America/Chicago:20240727T110000
DTSTAMP:20260419T212626
CREATED:20240710T220704Z
LAST-MODIFIED:20240710T220704Z
UID:503-1722070800-1722078000@westsalemil.com
SUMMARY:Back to School Stack the Pack Event
DESCRIPTION:The churches of West Salem have joined together to organize this event. Get ready for school with school supplies\, and a haircut.  Pre-registration is suggested through their Facebook page.
URL:https://westsalemil.com/event/back-to-school-stack-the-pack-event/
LOCATION:First Christian Church of West Salem\, 209 W. Church Street\, West Salem\, 62476\, United States
END:VEVENT
BEGIN:VEVENT
DTSTART;TZID=America/Chicago:20240726T090000
DTEND;TZID=America/Chicago:20240726T120000
DTSTAMP:20260419T212626
CREATED:20240623T213023Z
LAST-MODIFIED:20240623T213023Z
UID:470-1721984400-1721995200@westsalemil.com
SUMMARY:Farmer's Market
DESCRIPTION:A weekly Farmer’s Market held on Friday mornings throughout the Summer. Vendors vary from week to week\, but typically include Bullard’s Farm Market and Bakery out of Fairfield. While you are here\, be sure to check out Carter Farms Country Market on the north end of the Square\, too.
URL:https://westsalemil.com/event/farmers-market-5/
LOCATION:West Salem Square\, 100 South Street\, West Salem\, IL\, 62476\, United States
END:VEVENT
BEGIN:VEVENT
DTSTART;TZID=America/Chicago:20240722T190000
DTEND;TZID=America/Chicago:20240722T200000
DTSTAMP:20260419T212626
CREATED:20240621T200556Z
LAST-MODIFIED:20240717T193552Z
UID:423-1721674800-1721678400@westsalemil.com
SUMMARY:Village Board Meeting
DESCRIPTION:Monthly meeting of the West Salem Board of Trustees are open to the public. \nThe Agenda for the July meeting is now available.
URL:https://westsalemil.com/event/village-board-meeting-3/
LOCATION:Village Hall\, 106 E. South Street\, West Salem\, IL\, 62476\, United States
END:VEVENT
BEGIN:VEVENT
DTSTART;TZID=America/Chicago:20240719T090000
DTEND;TZID=America/Chicago:20240719T120000
DTSTAMP:20260419T212626
CREATED:20240623T212915Z
LAST-MODIFIED:20240623T212915Z
UID:468-1721379600-1721390400@westsalemil.com
SUMMARY:Farmer's Market
DESCRIPTION:A weekly Farmer’s Market held on Friday mornings throughout the Summer. Vendors vary from week to week\, but typically include Bullard’s Farm Market and Bakery out of Fairfield. While you are here\, be sure to check out Carter Farms Country Market on the north end of the Square\, too.
URL:https://westsalemil.com/event/farmers-market-4/
LOCATION:West Salem Square\, 100 South Street\, West Salem\, IL\, 62476\, United States
END:VEVENT
BEGIN:VEVENT
DTSTART;TZID=America/Chicago:20240712T090000
DTEND;TZID=America/Chicago:20240712T120000
DTSTAMP:20260419T212626
CREATED:20240623T211502Z
LAST-MODIFIED:20240623T211502Z
UID:458-1720774800-1720785600@westsalemil.com
SUMMARY:Farmer's Market
DESCRIPTION:A weekly Farmer’s Market held on Friday mornings throughout the Summer. Vendors vary from week to week\, but typically include Bullard’s Farm Market and Bakery out of Fairfield. While you are here\, be sure to check out Carter Farms Country Market on the north end of the Square\, too.
URL:https://westsalemil.com/event/farmers-market-3/
LOCATION:IL
END:VEVENT
BEGIN:VEVENT
DTSTART;TZID=America/Chicago:20240705T090000
DTEND;TZID=America/Chicago:20240705T120000
DTSTAMP:20260419T212626
CREATED:20240623T211336Z
LAST-MODIFIED:20240623T211634Z
UID:456-1720170000-1720180800@westsalemil.com
SUMMARY:Farmer's Market
DESCRIPTION:A weekly Farmer’s Market held on Friday mornings throughout the Summer. Vendors vary from week to week\, but typically include Bullard’s Farm Market and Bakery out of Fairfield. While you are here\, be sure to check out Carter Farms Country Market on the north end of the Square\, too.
URL:https://westsalemil.com/event/farmers-market-2/
LOCATION:West Salem Square\, 100 South Street\, West Salem\, IL\, 62476\, United States
END:VEVENT
BEGIN:VEVENT
DTSTART;VALUE=DATE:20240704
DTEND;VALUE=DATE:20240706
DTSTAMP:20260419T212626
CREATED:20240621T202008Z
LAST-MODIFIED:20240621T202302Z
UID:433-1720051200-1720223999@westsalemil.com
SUMMARY:Independence Day
DESCRIPTION:Village Hall  will be closed for the Independence Day Holiday on Thursday and Friday (7/4/24 -7/5/24)
URL:https://westsalemil.com/event/independence-day/
LOCATION:Village Hall\, 106 E. South Street\, West Salem\, IL\, 62476\, United States
END:VEVENT
BEGIN:VEVENT
DTSTART;TZID=America/Chicago:20240701T183000
DTEND;TZID=America/Chicago:20240701T193000
DTSTAMP:20260419T212626
CREATED:20240609T232945Z
LAST-MODIFIED:20240609T232945Z
UID:365-1719858600-1719862200@westsalemil.com
SUMMARY:July 2024 - Fire Department Meeting
DESCRIPTION:
URL:https://westsalemil.com/event/july-2024-fire-department-meeting/
LOCATION:IL
END:VEVENT
BEGIN:VEVENT
DTSTART;TZID=America/Chicago:20240701T093000
DTEND;TZID=America/Chicago:20240701T113000
DTSTAMP:20260419T212626
CREATED:20240623T204152Z
LAST-MODIFIED:20240623T204152Z
UID:449-1719826200-1719833400@westsalemil.com
SUMMARY:Representative Severin Traveling Office Hours
DESCRIPTION:Staff from Illinois State Representative Dave Severin’s office will be at Village Hall to hear comments\, and concerns from citizens of the 116th District.
URL:https://westsalemil.com/event/representative-severin-traveling-office-hours/
LOCATION:Village Hall\, 106 E. South Street\, West Salem\, IL\, 62476\, United States
END:VEVENT
BEGIN:VEVENT
DTSTART;TZID=America/Chicago:20240630T100000
DTEND;TZID=America/Chicago:20240630T173000
DTSTAMP:20260419T212626
CREATED:20240623T212616Z
LAST-MODIFIED:20240623T212616Z
UID:465-1719741600-1719768600@westsalemil.com
SUMMARY:West Salem Freedom Festival
DESCRIPTION:The popular West Salem Freedom Festival is scheduled for Saturday and Sunday (June 29 -30\, 2024).  This annual event is organized by the Volunteer Firemen’s Association of West Salem and is known for having one of the best fireworks displays in the area! \nSchedule of Events for Sunday: \n\n10:00 A.M. Community Worship Service at the Village Square\n11:30 A.M – Lunch at the Firehouse – The Smokin’ Pig \n11:30 A.M – 4:30 pm Car & Truck Show at the Village Square\nNoon Corn Hole Tournament at the Village Square\n4:30 P.M. 50/50 Raffle
URL:https://westsalemil.com/event/west-salem-freedom-festival-2/
LOCATION:West Salem Square\, 100 South Street\, West Salem\, IL\, 62476\, United States
END:VEVENT
BEGIN:VEVENT
DTSTART;VALUE=DATE:20240629
DTEND;VALUE=DATE:20240630
DTSTAMP:20260419T212626
CREATED:20240613T213556Z
LAST-MODIFIED:20240623T212255Z
UID:381-1719619200-1719705599@westsalemil.com
SUMMARY:West Salem Freedom Festival
DESCRIPTION:The popular West Salem Freedom Festival is scheduled for Saturday and Sunday (June 29 -30\, 2024).  This annual event is organized by the Volunteer Firemen’s Association of West Salem and is known for having one of the best fireworks displays in the area! \nSchedule of Events for Saturday: \n\n6:00 A.M Breakfast at the Firehouse\n7:00 A.M – ? Village Wide Yard Sale\n7:00 A.M. 5k Run/Walk at First Christian Church\n10:00 A.M. Wiffle Ball Tournament at Centennial Park\n11:00 A.M. – ? Food Vendors at Centennial Park\n6:00 P.M. DJ Music at Centennial Park\nDusk Fireworks at Centennial Park
URL:https://westsalemil.com/event/west-salem-freedom-festival/
LOCATION:Centennial Park\, 400 Boundary St\, West Salem\, IL\, 62476\, United States
END:VEVENT
BEGIN:VEVENT
DTSTART;TZID=America/Chicago:20240628T090000
DTEND;TZID=America/Chicago:20240628T120000
DTSTAMP:20260419T212626
CREATED:20240623T211202Z
LAST-MODIFIED:20240623T211532Z
UID:452-1719565200-1719576000@westsalemil.com
SUMMARY:Farmer's Market
DESCRIPTION:A weekly Farmer’s Market held on Friday mornings throughout the Summer. Vendors vary from week to week\, but typically include Bullard’s Farm Market and Bakery out of Fairfield. While you are here\, be sure to check out Carter Farms Country Market on the north end of the Square\, too.
URL:https://westsalemil.com/event/farmers-market/
LOCATION:West Salem Square\, 100 South Street\, West Salem\, IL\, 62476\, United States
END:VEVENT
BEGIN:VEVENT
DTSTART;TZID=America/Chicago:20240624T070000
DTEND;TZID=America/Chicago:20240624T200000
DTSTAMP:20260419T212626
CREATED:20240621T190206Z
LAST-MODIFIED:20240621T190206Z
UID:419-1719212400-1719259200@westsalemil.com
SUMMARY:Village Board Meeting
DESCRIPTION:Monthly meeting of the West Salem Board of Trustees are open to the public.
URL:https://westsalemil.com/event/village-board-meeting-2/
LOCATION:Village Hall\, 106 E. South Street\, West Salem\, IL\, 62476\, United States
END:VEVENT
BEGIN:VEVENT
DTSTART;VALUE=DATE:20240527
DTEND;VALUE=DATE:20240528
DTSTAMP:20260419T212626
CREATED:20240408T132553Z
LAST-MODIFIED:20240408T132553Z
UID:182-1716768000-1716854399@westsalemil.com
SUMMARY:Memorial Day - Village Hall Closed
DESCRIPTION:
URL:https://westsalemil.com/event/memorial-day-village-hall-closed/
LOCATION:IL
END:VEVENT
BEGIN:VEVENT
DTSTART;TZID=America/Chicago:20240520T190000
DTEND;TZID=America/Chicago:20240520T200000
DTSTAMP:20260419T212626
CREATED:20240408T132527Z
LAST-MODIFIED:20240408T132527Z
UID:180-1716231600-1716235200@westsalemil.com
SUMMARY:Village Board Meeting
DESCRIPTION:
URL:https://westsalemil.com/event/village-board-meeting/
LOCATION:IL
END:VEVENT
BEGIN:VEVENT
DTSTART;TZID=America/Chicago:20240506T183000
DTEND;TZID=America/Chicago:20240506T193000
DTSTAMP:20260419T212626
CREATED:20240408T132453Z
LAST-MODIFIED:20240408T132453Z
UID:178-1715020200-1715023800@westsalemil.com
SUMMARY:Fire Department Meeting
DESCRIPTION:
URL:https://westsalemil.com/event/fire-department-meeting/
LOCATION:IL
END:VEVENT
BEGIN:VEVENT
DTSTART;VALUE=DATE:20240503
DTEND;VALUE=DATE:20240504
DTSTAMP:20260419T212626
CREATED:20240408T132415Z
LAST-MODIFIED:20240408T132415Z
UID:176-1714694400-1714780799@westsalemil.com
SUMMARY:West Salem PTO Annual Fish Fry
DESCRIPTION:
URL:https://westsalemil.com/event/west-salem-pto-annual-fish-fry/
LOCATION:IL
END:VEVENT
BEGIN:VEVENT
DTSTART;VALUE=DATE:20240503
DTEND;VALUE=DATE:20240504
DTSTAMP:20260419T212626
CREATED:20240408T132335Z
LAST-MODIFIED:20240408T132335Z
UID:174-1714694400-1714780799@westsalemil.com
SUMMARY:Trash/Water Bills Due
DESCRIPTION:
URL:https://westsalemil.com/event/trash-water-bills-due/
LOCATION:IL
END:VEVENT
END:VCALENDAR