BEGIN:VCALENDAR
VERSION:2.0
PRODID:-// - ECPv6.15.20//NONSGML v1.0//EN
CALSCALE:GREGORIAN
METHOD:PUBLISH
X-ORIGINAL-URL:https://westsalemil.com
X-WR-CALDESC:Events for 
REFRESH-INTERVAL;VALUE=DURATION:PT1H
X-Robots-Tag:noindex
X-PUBLISHED-TTL:PT1H
BEGIN:VTIMEZONE
TZID:America/Chicago
BEGIN:DAYLIGHT
TZOFFSETFROM:-0600
TZOFFSETTO:-0500
TZNAME:CDT
DTSTART:20230312T080000
END:DAYLIGHT
BEGIN:STANDARD
TZOFFSETFROM:-0500
TZOFFSETTO:-0600
TZNAME:CST
DTSTART:20231105T070000
END:STANDARD
BEGIN:DAYLIGHT
TZOFFSETFROM:-0600
TZOFFSETTO:-0500
TZNAME:CDT
DTSTART:20240310T080000
END:DAYLIGHT
BEGIN:STANDARD
TZOFFSETFROM:-0500
TZOFFSETTO:-0600
TZNAME:CST
DTSTART:20241103T070000
END:STANDARD
BEGIN:DAYLIGHT
TZOFFSETFROM:-0600
TZOFFSETTO:-0500
TZNAME:CDT
DTSTART:20250309T080000
END:DAYLIGHT
BEGIN:STANDARD
TZOFFSETFROM:-0500
TZOFFSETTO:-0600
TZNAME:CST
DTSTART:20251102T070000
END:STANDARD
END:VTIMEZONE
BEGIN:VEVENT
DTSTART;TZID=America/Chicago:20241113T080000
DTEND;TZID=America/Chicago:20241113T160000
DTSTAMP:20260419T120016
CREATED:20241106T154426Z
LAST-MODIFIED:20241106T155203Z
UID:803-1731484800-1731513600@westsalemil.com
SUMMARY:Acceptance of Candidate Petitions
DESCRIPTION:West Salem Village Hall will be accepting candidate petitions for the Consolidated Election to be held on April 1\, 2025 for the following offices: \nVillage Trustees (3)          4 -year Term \nLibrary Trustee (1)           4- year Term \nLibrary Trustee (3)           2- year Unexpired Term \nCandidate petitions will be accepted during normal business hours beginning Tuesday\, November 12\, 2024\, through Monday November 18\, 2024. \nThe West Salem Village Hall is located at 106 E. South Street\, West Salem\, Illinois.
URL:https://westsalemil.com/event/acceptance-of-candidate-petitions-2/
LOCATION:Village Hall\, 106 E. South Street\, West Salem\, IL\, 62476\, United States
END:VEVENT
BEGIN:VEVENT
DTSTART;TZID=America/Chicago:20241112T080000
DTEND;TZID=America/Chicago:20241112T160000
DTSTAMP:20260419T120016
CREATED:20241106T154113Z
LAST-MODIFIED:20241106T154236Z
UID:801-1731398400-1731427200@westsalemil.com
SUMMARY:Acceptance of Candidate Petitions
DESCRIPTION:West Salem Village Hall will be accepting candidate petitions for the Consolidated Election to be held on April 1\, 2025 for the following offices: \nVillage Trustees (3)          4 -year Term \nLibrary Trustee (1)           4- year Term \nLibrary Trustee (3)           2- year Unexpired Term \nCandidate petitions will be accepted during normal business hours beginning Tuesday\, November 12\, 2024\, through Monday November 18\, 2024. \nThe West Salem Village Hall is located at 106 E. South Street\, West Salem\, Illinois.
URL:https://westsalemil.com/event/acceptance-of-candidate-petitions/
LOCATION:Village Hall\, 106 E. South Street\, West Salem\, IL\, 62476\, United States
END:VEVENT
BEGIN:VEVENT
DTSTART;VALUE=DATE:20241111
DTEND;VALUE=DATE:20241112
DTSTAMP:20260419T120016
CREATED:20240621T202831Z
LAST-MODIFIED:20240621T202831Z
UID:441-1731283200-1731369599@westsalemil.com
SUMMARY:Veteran's Day
DESCRIPTION:Village Hall Will be closed on Monday\, November 11\, 2024 in Observance of Labor Day.
URL:https://westsalemil.com/event/veterans-day/
LOCATION:IL
END:VEVENT
BEGIN:VEVENT
DTSTART;TZID=America/Chicago:20241105T060000
DTEND;TZID=America/Chicago:20241105T190000
DTSTAMP:20260419T120016
CREATED:20241028T202458Z
LAST-MODIFIED:20241028T204906Z
UID:763-1730786400-1730833200@westsalemil.com
SUMMARY:Election Day
DESCRIPTION:Village Hall will be open for business. \nResidents of West Salem may cast their ballots at the Moravian Church. More information can be found here. \nOn the ballot to be elected: \n\nPresident/Vice-President.\nRepresentative in Congress 12th District.\nState Sentator 58th District.\nState Representative 116th District.\nCircuit Clerk.\nState’s Attorney.\nCoroner.\nCounty Commissioner.\nAdvisory Questions.
URL:https://westsalemil.com/event/election-day/
LOCATION:Moravian Church\, 257 E. Church Street\, West Salem\, IL\, 62476\, United States
END:VEVENT
BEGIN:VEVENT
DTSTART;TZID=America/Chicago:20241104T183000
DTEND;TZID=America/Chicago:20241104T190000
DTSTAMP:20260419T120016
CREATED:20240710T215342Z
LAST-MODIFIED:20240710T215342Z
UID:499-1730745000-1730746800@westsalemil.com
SUMMARY:Fire Department Meeting
DESCRIPTION:The monthly meeting of the West Salem Volunteer Fire Department. They meet at the Fire Station next to Village Hall.
URL:https://westsalemil.com/event/fire-department-meeting-5/
LOCATION:IL
END:VEVENT
BEGIN:VEVENT
DTSTART;TZID=America/Chicago:20241031T170000
DTEND;TZID=America/Chicago:20241031T200000
DTSTAMP:20260419T120016
CREATED:20240925T154802Z
LAST-MODIFIED:20240925T175806Z
UID:704-1730394000-1730404800@westsalemil.com
SUMMARY:Trunk-or-Treat
DESCRIPTION:Happy Halloween! This Annual event is being sponsored by the West Salem Development Association.  A costume contest will be held at the bandstand\, and followed  by ‘trunk or treating.’
URL:https://westsalemil.com/event/annual-trunk-or-treat-event/
LOCATION:West Salem Square\, 100 South Street\, West Salem\, IL\, 62476\, United States
END:VEVENT
BEGIN:VEVENT
DTSTART;TZID=America/Chicago:20241031T100000
DTEND;TZID=America/Chicago:20241031T120000
DTSTAMP:20260419T120016
CREATED:20241024T135345Z
LAST-MODIFIED:20241024T135345Z
UID:752-1730368800-1730376000@westsalemil.com
SUMMARY:Representative Dave Severin Visit
DESCRIPTION:Illinois State Representative Dave Severin will be at the West Salem Village Hall from 10:00 AM to Noon.  This is a free public event. \n 
URL:https://westsalemil.com/event/representative-dave-severin-visit-2/
LOCATION:Village Hall\, 106 E. South Street\, West Salem\, IL\, 62476\, United States
END:VEVENT
BEGIN:VEVENT
DTSTART;TZID=America/Chicago:20241028T183000
DTEND;TZID=America/Chicago:20241028T203000
DTSTAMP:20260419T120016
CREATED:20240621T201737Z
LAST-MODIFIED:20241023T192142Z
UID:431-1730140200-1730147400@westsalemil.com
SUMMARY:Village Board Meeting
DESCRIPTION:Monthly meeting of the West Salem Board of Trustees are open to the public. \n  \nOctober 28\, 2024 – Village Board Agenda
URL:https://westsalemil.com/event/village-board-meeting-6/
LOCATION:Village Hall\, 106 E. South Street\, West Salem\, IL\, 62476\, United States
END:VEVENT
BEGIN:VEVENT
DTSTART;TZID=America/Chicago:20241028T070000
DTEND;TZID=America/Chicago:20241028T130000
DTSTAMP:20260419T120016
CREATED:20241026T123515Z
LAST-MODIFIED:20241026T123622Z
UID:758-1730098800-1730120400@westsalemil.com
SUMMARY:Street Sweeping
DESCRIPTION:Street Sweeping will be done in the following areas: \n\nSouth Street  – from the Square east to New Street.\nNew Street – from Church to Pinhook Street.\nPinhook Street – from New Street to Angle Drive.\nE. Church Street – from the Square to New Street.\n\n 
URL:https://westsalemil.com/event/street-sweeping/
LOCATION:IL
END:VEVENT
BEGIN:VEVENT
DTSTART;TZID=America/Chicago:20241026T160000
DTEND;TZID=America/Chicago:20241026T190000
DTSTAMP:20260419T120016
CREATED:20240925T155708Z
LAST-MODIFIED:20240925T155708Z
UID:706-1729958400-1729969200@westsalemil.com
SUMMARY:Trick-or-Treat Hours
DESCRIPTION:Official ‘Trick-or-Treat’ hours for the Village of West Salem are 4:00PM to 7:00PM on Saturday\, October 26\,2024. \nResidents: If you wish to welcome trick-or-treaters – please leave your front porch light on. \nTrick-or-Treaters: Please only visit houses that have a front porch light on. \nA community Trunk-or-Treat Event will be held on Halloween (October 31\, 2024) on the Village Square.
URL:https://westsalemil.com/event/trick-or-treat-hours/
LOCATION:IL
END:VEVENT
BEGIN:VEVENT
DTSTART;TZID=America/Chicago:20241024T100000
DTEND;TZID=America/Chicago:20241024T120000
DTSTAMP:20260419T120016
CREATED:20241009T201357Z
LAST-MODIFIED:20241024T135056Z
UID:733-1729764000-1729771200@westsalemil.com
SUMMARY:RESCHEDULED Representative Dave Severin Visit
DESCRIPTION:DUE TO ILLNESS\, THIS EVENT HAS BEEN RESCHEDULED TO OCTOBER 31\, 2024 (updated 10/24/24). \nRepresentative Dave Severin will be holding Office Hours at West Salem’s Village Hall. He\, along with his Legislative Aide Fisher Overstreet\, will be available to meet with area residents. This is a public event.  For more information\, contact his District Office at 618/472-8158.
URL:https://westsalemil.com/event/representative-dave-severin-visit/
LOCATION:Village Hall\, 106 E. South Street\, West Salem\, IL\, 62476\, United States
END:VEVENT
BEGIN:VEVENT
DTSTART;TZID=America/Chicago:20241019T150000
DTEND;TZID=America/Chicago:20241019T180000
DTSTAMP:20260419T120016
CREATED:20240913T164928Z
LAST-MODIFIED:20240913T165052Z
UID:674-1729350000-1729360800@westsalemil.com
SUMMARY:Fall Festival
DESCRIPTION:Love West Salem Community Outreach is sponsoring a Fall Festival from 3PM to 6PM at the Village Square.  This is a public event featuring hay rides\, a petting zoo\, bounce house\, and more. For more information contact West Salem First Christian Church at (618) 456-8563.
URL:https://westsalemil.com/event/fall-festival/
LOCATION:West Salem Square\, 100 South Street\, West Salem\, IL\, 62476\, United States
END:VEVENT
BEGIN:VEVENT
DTSTART;TZID=America/Chicago:20241017T060000
DTEND;TZID=America/Chicago:20241017T170000
DTSTAMP:20260419T120016
CREATED:20240731T211217Z
LAST-MODIFIED:20240731T211217Z
UID:567-1729144800-1729184400@westsalemil.com
SUMMARY:Village Wide Curbside Clean Up
DESCRIPTION:An extra trash pick-up for items not normally taken on the weekly trash day pick-ups!  Please bag or box trash when possible. Mattresses and box springs must be wrapped in plastic. Carpet must be cut in 4 foot sections to be picked up. This extra Clean up is for residential customers only. \nItems that Repbulic can not pick-up include: \n\nTires\nBatteries\nLiquid Chemicals\nPaint\nLarge Appliances\nYard Waste\nConstruction Debris\nTelevision & Computers\nVehicle Parts
URL:https://westsalemil.com/event/village-wide-curbside-clean-up/
LOCATION:IL
END:VEVENT
BEGIN:VEVENT
DTSTART;TZID=America/Chicago:20241007T183000
DTEND;TZID=America/Chicago:20241007T190000
DTSTAMP:20260419T120016
CREATED:20240710T215238Z
LAST-MODIFIED:20240710T215238Z
UID:497-1728325800-1728327600@westsalemil.com
SUMMARY:Fire Department Meeting
DESCRIPTION:The monthly meeting of the West Salem Volunteer Fire Department. They meet at the Fire Station next to Village Hall.
URL:https://westsalemil.com/event/fire-department-meeting-4/
LOCATION:Village Hall\, 106 E. South Street\, West Salem\, IL\, 62476\, United States
END:VEVENT
BEGIN:VEVENT
DTSTART;TZID=America/Chicago:20240923T190000
DTEND;TZID=America/Chicago:20240923T203000
DTSTAMP:20260419T120016
CREATED:20240621T201248Z
LAST-MODIFIED:20240621T201248Z
UID:429-1727118000-1727123400@westsalemil.com
SUMMARY:Village Board Meeting
DESCRIPTION:Monthly meeting of the West Salem Board of Trustees are open to the public.
URL:https://westsalemil.com/event/village-board-meeting-5/
LOCATION:Village Hall\, 106 E. South Street\, West Salem\, IL\, 62476\, United States
END:VEVENT
BEGIN:VEVENT
DTSTART;TZID=America/Chicago:20240918T100000
DTEND;TZID=America/Chicago:20240918T110000
DTSTAMP:20260419T120016
CREATED:20240830T165938Z
LAST-MODIFIED:20240830T165938Z
UID:647-1726653600-1726657200@westsalemil.com
SUMMARY:Bid Opening for Mill Pond Park Project / OSLAD GRANT
DESCRIPTION:The public opening of construction bids for the Mill Pond Project in West Salem. This project is being funded in part through a Open Space Land Acquistion and Development grant by the Illinois Department of Natural Resources.
URL:https://westsalemil.com/event/bid-opening-for-mill-pond-park-project-oslad-grant/
LOCATION:Village Hall\, 106 E. South Street\, West Salem\, IL\, 62476\, United States
END:VEVENT
BEGIN:VEVENT
DTSTART;TZID=America/Chicago:20240909T183000
DTEND;TZID=America/Chicago:20240909T190000
DTSTAMP:20260419T120016
CREATED:20240710T215128Z
LAST-MODIFIED:20240710T215128Z
UID:495-1725906600-1725908400@westsalemil.com
SUMMARY:Fire Department Meeting
DESCRIPTION:The monthly meeting of the West Salem Volunteer Fire Department. They meet at the Fire Station next to Village Hall.
URL:https://westsalemil.com/event/fire-department-meeting-3/
LOCATION:Village Hall\, 106 E. South Street\, West Salem\, IL\, 62476\, United States
END:VEVENT
BEGIN:VEVENT
DTSTART;VALUE=DATE:20240902
DTEND;VALUE=DATE:20240903
DTSTAMP:20260419T120016
CREATED:20240621T202553Z
LAST-MODIFIED:20240621T202553Z
UID:439-1725235200-1725321599@westsalemil.com
SUMMARY:Labor Day
DESCRIPTION:Village Hall will be closed on Monday\, September 2\, 2024 in Observance of Labor Day.
URL:https://westsalemil.com/event/labor-day/
LOCATION:IL
END:VEVENT
BEGIN:VEVENT
DTSTART;TZID=America/Chicago:20240826T190000
DTEND;TZID=America/Chicago:20240826T203000
DTSTAMP:20260419T120016
CREATED:20240621T200917Z
LAST-MODIFIED:20240821T163659Z
UID:427-1724698800-1724704200@westsalemil.com
SUMMARY:Village Board Meeting
DESCRIPTION:Monthly meeting of the West Salem Board of Trustees are open to the public. \nThe Agenda For the Meeting can be found here.
URL:https://westsalemil.com/event/village-board-meeting-4/
LOCATION:Village Hall\, 106 E. South Street\, West Salem\, IL\, 62476\, United States
END:VEVENT
BEGIN:VEVENT
DTSTART;VALUE=DATE:20240817
DTEND;VALUE=DATE:20240818
DTSTAMP:20260419T120016
CREATED:20240715T133809Z
LAST-MODIFIED:20240812T150704Z
UID:507-1723852800-1723939199@westsalemil.com
SUMMARY:West Salem Chowder
DESCRIPTION:This year’s event will include a parade\, live music\, and of course Chowder! \n\n\n\n9:30 AM: Parade  (Church Street to the Square)\n10:30 AM: Bulk Sale of Chowder begins\n11:00 AM -1:00 PM: Live Music and Vendor Fair
URL:https://westsalemil.com/event/west-salem-chowder/
LOCATION:West Salem Square\, 100 South Street\, West Salem\, IL\, 62476\, United States
END:VEVENT
BEGIN:VEVENT
DTSTART;TZID=America/Chicago:20240816T090000
DTEND;TZID=America/Chicago:20240816T120000
DTSTAMP:20260419T120016
CREATED:20240731T170939Z
LAST-MODIFIED:20240731T170939Z
UID:565-1723798800-1723809600@westsalemil.com
SUMMARY:Farmer's Market
DESCRIPTION:A weekly Farmer’s Market held on Friday mornings throughout the Summer. Vendors vary from week to week\, but typically include Bullard’s Farm Market and Bakery out of Fairfield. While you are here\, be sure to check out Carter Farms Country Market on the north end of the Square\, too.
URL:https://westsalemil.com/event/farmers-market-8/
LOCATION:West Salem Square\, 100 South Street\, West Salem\, IL\, 62476\, United States
END:VEVENT
BEGIN:VEVENT
DTSTART;TZID=America/Chicago:20240813T080000
DTEND;TZID=America/Chicago:20240813T170000
DTSTAMP:20260419T120016
CREATED:20240715T134221Z
LAST-MODIFIED:20240715T134221Z
UID:509-1723536000-1723568400@westsalemil.com
SUMMARY:First Day of School
DESCRIPTION:First day of school for Edwards County School District #1. This includes West Salem Grade School and Edwards County High School.
URL:https://westsalemil.com/event/first-day-of-school/
LOCATION:IL
END:VEVENT
BEGIN:VEVENT
DTSTART;TZID=America/Chicago:20240809T090000
DTEND;TZID=America/Chicago:20240809T120000
DTSTAMP:20260419T120016
CREATED:20240731T170714Z
LAST-MODIFIED:20240731T170714Z
UID:563-1723194000-1723204800@westsalemil.com
SUMMARY:Farmer's Market
DESCRIPTION:A weekly Farmer’s Market held on Friday mornings throughout the Summer. Vendors vary from week to week\, but typically include Bullard’s Farm Market and Bakery out of Fairfield. While you are here\, be sure to check out Carter Farms Country Market on the north end of the Square\, too.
URL:https://westsalemil.com/event/farmers-market-7/
LOCATION:West Salem Square\, 100 South Street\, West Salem\, IL\, 62476\, United States
END:VEVENT
BEGIN:VEVENT
DTSTART;TZID=America/Chicago:20240805T183000
DTEND;TZID=America/Chicago:20240805T190000
DTSTAMP:20260419T120016
CREATED:20240710T214953Z
LAST-MODIFIED:20240710T214953Z
UID:493-1722882600-1722884400@westsalemil.com
SUMMARY:Fire Department Meeting
DESCRIPTION:The monthly meeting of the West Salem Volunteer Fire Department. They meet at the Fire Station next to Village Hall.
URL:https://westsalemil.com/event/fire-department-meeting-2/
LOCATION:Village Hall\, 106 E. South Street\, West Salem\, IL\, 62476\, United States
END:VEVENT
BEGIN:VEVENT
DTSTART;TZID=America/Chicago:20240805T100000
DTEND;TZID=America/Chicago:20240805T103000
DTSTAMP:20260419T120016
CREATED:20240723T214724Z
LAST-MODIFIED:20240723T214724Z
UID:529-1722852000-1722853800@westsalemil.com
SUMMARY:Public Hearing on Sewer Lagoon Grant
DESCRIPTION:A public hearing on the close-out of a Community Development Block Grant for the reconstruction of the south sewer lagoon in West Salem.  Call Greater Wabash Regional Planning Commission at 618-445-3612 for more information
URL:https://westsalemil.com/event/public-hearing-on-sewer-lagoon-grant/
LOCATION:Village Hall\, 106 E. South Street\, West Salem\, IL\, 62476\, United States
END:VEVENT
BEGIN:VEVENT
DTSTART;TZID=America/Chicago:20240802T090000
DTEND;TZID=America/Chicago:20240802T120000
DTSTAMP:20260419T120016
CREATED:20240623T213135Z
LAST-MODIFIED:20240623T213135Z
UID:472-1722589200-1722600000@westsalemil.com
SUMMARY:Farmer's Market
DESCRIPTION:A weekly Farmer’s Market held on Friday mornings throughout the Summer. Vendors vary from week to week\, but typically include Bullard’s Farm Market and Bakery out of Fairfield. While you are here\, be sure to check out Carter Farms Country Market on the north end of the Square\, too.
URL:https://westsalemil.com/event/farmers-market-6/
LOCATION:West Salem Square\, 100 South Street\, West Salem\, IL\, 62476\, United States
END:VEVENT
BEGIN:VEVENT
DTSTART;TZID=America/Chicago:20240727T090000
DTEND;TZID=America/Chicago:20240727T110000
DTSTAMP:20260419T120016
CREATED:20240710T220704Z
LAST-MODIFIED:20240710T220704Z
UID:503-1722070800-1722078000@westsalemil.com
SUMMARY:Back to School Stack the Pack Event
DESCRIPTION:The churches of West Salem have joined together to organize this event. Get ready for school with school supplies\, and a haircut.  Pre-registration is suggested through their Facebook page.
URL:https://westsalemil.com/event/back-to-school-stack-the-pack-event/
LOCATION:First Christian Church of West Salem\, 209 W. Church Street\, West Salem\, 62476\, United States
END:VEVENT
BEGIN:VEVENT
DTSTART;TZID=America/Chicago:20240726T090000
DTEND;TZID=America/Chicago:20240726T120000
DTSTAMP:20260419T120016
CREATED:20240623T213023Z
LAST-MODIFIED:20240623T213023Z
UID:470-1721984400-1721995200@westsalemil.com
SUMMARY:Farmer's Market
DESCRIPTION:A weekly Farmer’s Market held on Friday mornings throughout the Summer. Vendors vary from week to week\, but typically include Bullard’s Farm Market and Bakery out of Fairfield. While you are here\, be sure to check out Carter Farms Country Market on the north end of the Square\, too.
URL:https://westsalemil.com/event/farmers-market-5/
LOCATION:West Salem Square\, 100 South Street\, West Salem\, IL\, 62476\, United States
END:VEVENT
BEGIN:VEVENT
DTSTART;TZID=America/Chicago:20240722T190000
DTEND;TZID=America/Chicago:20240722T200000
DTSTAMP:20260419T120016
CREATED:20240621T200556Z
LAST-MODIFIED:20240717T193552Z
UID:423-1721674800-1721678400@westsalemil.com
SUMMARY:Village Board Meeting
DESCRIPTION:Monthly meeting of the West Salem Board of Trustees are open to the public. \nThe Agenda for the July meeting is now available.
URL:https://westsalemil.com/event/village-board-meeting-3/
LOCATION:Village Hall\, 106 E. South Street\, West Salem\, IL\, 62476\, United States
END:VEVENT
BEGIN:VEVENT
DTSTART;TZID=America/Chicago:20240719T090000
DTEND;TZID=America/Chicago:20240719T120000
DTSTAMP:20260419T120016
CREATED:20240623T212915Z
LAST-MODIFIED:20240623T212915Z
UID:468-1721379600-1721390400@westsalemil.com
SUMMARY:Farmer's Market
DESCRIPTION:A weekly Farmer’s Market held on Friday mornings throughout the Summer. Vendors vary from week to week\, but typically include Bullard’s Farm Market and Bakery out of Fairfield. While you are here\, be sure to check out Carter Farms Country Market on the north end of the Square\, too.
URL:https://westsalemil.com/event/farmers-market-4/
LOCATION:West Salem Square\, 100 South Street\, West Salem\, IL\, 62476\, United States
END:VEVENT
END:VCALENDAR