BEGIN:VCALENDAR
VERSION:2.0
PRODID:-// - ECPv6.15.20//NONSGML v1.0//EN
CALSCALE:GREGORIAN
METHOD:PUBLISH
X-ORIGINAL-URL:https://westsalemil.com
X-WR-CALDESC:Events for 
REFRESH-INTERVAL;VALUE=DURATION:PT1H
X-Robots-Tag:noindex
X-PUBLISHED-TTL:PT1H
BEGIN:VTIMEZONE
TZID:America/Chicago
BEGIN:DAYLIGHT
TZOFFSETFROM:-0600
TZOFFSETTO:-0500
TZNAME:CDT
DTSTART:20230312T080000
END:DAYLIGHT
BEGIN:STANDARD
TZOFFSETFROM:-0500
TZOFFSETTO:-0600
TZNAME:CST
DTSTART:20231105T070000
END:STANDARD
BEGIN:DAYLIGHT
TZOFFSETFROM:-0600
TZOFFSETTO:-0500
TZNAME:CDT
DTSTART:20240310T080000
END:DAYLIGHT
BEGIN:STANDARD
TZOFFSETFROM:-0500
TZOFFSETTO:-0600
TZNAME:CST
DTSTART:20241103T070000
END:STANDARD
BEGIN:DAYLIGHT
TZOFFSETFROM:-0600
TZOFFSETTO:-0500
TZNAME:CDT
DTSTART:20250309T080000
END:DAYLIGHT
BEGIN:STANDARD
TZOFFSETFROM:-0500
TZOFFSETTO:-0600
TZNAME:CST
DTSTART:20251102T070000
END:STANDARD
BEGIN:DAYLIGHT
TZOFFSETFROM:-0600
TZOFFSETTO:-0500
TZNAME:CDT
DTSTART:20260308T080000
END:DAYLIGHT
BEGIN:STANDARD
TZOFFSETFROM:-0500
TZOFFSETTO:-0600
TZNAME:CST
DTSTART:20261101T070000
END:STANDARD
END:VTIMEZONE
BEGIN:VEVENT
DTSTART;TZID=America/Chicago:20250303T183000
DTEND;TZID=America/Chicago:20250303T190000
DTSTAMP:20260419T154110
CREATED:20241127T161108Z
LAST-MODIFIED:20241127T161736Z
UID:854-1741026600-1741028400@westsalemil.com
SUMMARY:Fire Department Meeting
DESCRIPTION:This monthly meeting of the West Salem Volunteer Fire Department is open to the public. Meetings are held at the Fire Station next to Village Hall.
URL:https://westsalemil.com/event/854/
LOCATION:Village Hall\, 106 E. South Street\, West Salem\, IL\, 62476\, United States
END:VEVENT
BEGIN:VEVENT
DTSTART;TZID=America/Chicago:20250224T183000
DTEND;TZID=America/Chicago:20250224T200000
DTSTAMP:20260419T154110
CREATED:20241127T155950Z
LAST-MODIFIED:20250221T144814Z
UID:842-1740421800-1740427200@westsalemil.com
SUMMARY:Village Board Meeting
DESCRIPTION:Monthly Meetings of the West Salem Village Board of Trustees are open to the public. \nFebruary 24\, 2025 – Village Board Agenda
URL:https://westsalemil.com/event/village-board-meeting-10/
LOCATION:Village Hall\, 106 E. South Street\, West Salem\, IL\, 62476\, United States
END:VEVENT
BEGIN:VEVENT
DTSTART;TZID=America/Chicago:20250224T100000
DTEND;TZID=America/Chicago:20250224T120000
DTSTAMP:20260419T154110
CREATED:20250221T155559Z
LAST-MODIFIED:20250221T155559Z
UID:1140-1740391200-1740398400@westsalemil.com
SUMMARY:Traveling Office HOurs for Senator Terri Bryant & Representative Dave Severin
DESCRIPTION:The Offices of Illinois State Senator Terri Bryant and Illinois State Representative Dave Severin will be hosting “Traveling Office Hours” at the West Salem Village Hall from 10:00 AM to Noon. This is a free public event.
URL:https://westsalemil.com/event/traveling-office-hours-for-senator-terri-bryant-representative-dave-severin/
LOCATION:Village Hall\, 106 E. South Street\, West Salem\, IL\, 62476\, United States
END:VEVENT
BEGIN:VEVENT
DTSTART;TZID=America/Chicago:20250219T100000
DTEND;TZID=America/Chicago:20250219T120000
DTSTAMP:20260419T154110
CREATED:20250214T153617Z
LAST-MODIFIED:20250221T155109Z
UID:1114-1739959200-1739966400@westsalemil.com
SUMMARY:RESCHEDULED TO FEBRUARY 24\, 2025- Traveling Office Hours - Senator Terri Bryant & Represenative Dave Severin
DESCRIPTION:DUE TO THE WEATHER FORECAST\, THIS EVENT HAS BEEN RESCHEDULED TO FEBRUARY 24\, 2025. \n  \n 
URL:https://westsalemil.com/event/traveling-office-hours-senator-terri-bryant-represenative-dave-severin/
LOCATION:Village Hall\, 106 E. South Street\, West Salem\, IL\, 62476\, United States
END:VEVENT
BEGIN:VEVENT
DTSTART;VALUE=DATE:20250217
DTEND;VALUE=DATE:20250218
DTSTAMP:20260419T154110
CREATED:20241127T165957Z
LAST-MODIFIED:20241127T175428Z
UID:869-1739750400-1739836799@westsalemil.com
SUMMARY:President's Day - Village Hall Closed
DESCRIPTION:Village Hall will be closed on President’s Day\, Monday\, February 17\, 2025. \nUtility Payments may be made online\,  or placed in the mail slot just to the east of the entrance doors of Village Hall. \n 
URL:https://westsalemil.com/event/presidents-day/
LOCATION:IL
END:VEVENT
BEGIN:VEVENT
DTSTART;VALUE=DATE:20250212
DTEND;VALUE=DATE:20250213
DTSTAMP:20260419T154110
CREATED:20241127T165755Z
LAST-MODIFIED:20241127T175328Z
UID:867-1739318400-1739404799@westsalemil.com
SUMMARY:Lincoln's Birthday - Village Hall Closed
DESCRIPTION:Village Hall will be closed in observance of Lincoln’s Birthday on Wednesday\, February 12\, 2025. \nUtility Payments may be made online\,  or placed in the mail slot just to the east of the entrance doors of Village Hall.
URL:https://westsalemil.com/event/lincolns-birthday/
LOCATION:IL
END:VEVENT
BEGIN:VEVENT
DTSTART;TZID=America/Chicago:20250203T183000
DTEND;TZID=America/Chicago:20250203T190000
DTSTAMP:20260419T154110
CREATED:20241127T160930Z
LAST-MODIFIED:20241127T200750Z
UID:852-1738607400-1738609200@westsalemil.com
SUMMARY:Fire Department Meeting
DESCRIPTION:The monthly meetings of the West Salem Volunteer Fire Department are open to the public. Meetings are held at the Fire Station next to Village Hall.
URL:https://westsalemil.com/event/fire-department-meeting-8/
LOCATION:Village Hall\, 106 E. South Street\, West Salem\, IL\, 62476\, United States
END:VEVENT
BEGIN:VEVENT
DTSTART;TZID=America/Chicago:20250127T183000
DTEND;TZID=America/Chicago:20250127T200000
DTSTAMP:20260419T154110
CREATED:20241127T155812Z
LAST-MODIFIED:20241127T200647Z
UID:839-1738002600-1738008000@westsalemil.com
SUMMARY:Village Board Meeting
DESCRIPTION:The Monthly Meetings of the West Salem Village Board of Trustees are open to the public.
URL:https://westsalemil.com/event/village-board-meeting-9/
LOCATION:Village Hall\, 106 E. South Street\, West Salem\, IL\, 62476\, United States
END:VEVENT
BEGIN:VEVENT
DTSTART;VALUE=DATE:20250120
DTEND;VALUE=DATE:20250121
DTSTAMP:20260419T154110
CREATED:20241127T162241Z
LAST-MODIFIED:20241127T175236Z
UID:865-1737331200-1737417599@westsalemil.com
SUMMARY:Dr. Martin Luther King Jr. Birthday - Village Hall Closed
DESCRIPTION:Village Hall will be closed in observance of Dr. Martin Luther King\, Jr. Birthday (1/20/25). \nUtility Payments may be made online\,  or placed in the mail slot just to the east of the entrance doors of Village Hall.
URL:https://westsalemil.com/event/dr-martin-luther-king-jr-birthday/
LOCATION:Village Hall\, 106 E. South Street\, West Salem\, IL\, 62476\, United States
END:VEVENT
BEGIN:VEVENT
DTSTART;TZID=America/Chicago:20250106T183000
DTEND;TZID=America/Chicago:20250106T190000
DTSTAMP:20260419T154110
CREATED:20241127T160738Z
LAST-MODIFIED:20241127T200602Z
UID:849-1736188200-1736190000@westsalemil.com
SUMMARY:Fire Department Meeting
DESCRIPTION:The monthly meetings of the West Salem Volunteer Fire Department are open to the public. Meetings are held at the Fire Station next to Village Hall. \n  \n 
URL:https://westsalemil.com/event/fire-department-meeting-7/
LOCATION:Village Hall\, 106 E. South Street\, West Salem\, IL\, 62476\, United States
END:VEVENT
BEGIN:VEVENT
DTSTART;VALUE=DATE:20250106
DTEND;VALUE=DATE:20250107
DTSTAMP:20260419T154110
CREATED:20250105T201746Z
LAST-MODIFIED:20250105T201746Z
UID:1070-1736121600-1736207999@westsalemil.com
SUMMARY:Village Hall Closed
DESCRIPTION:West Salem Village Hall will be closed on Monday\, January 6\, 2025 due to the weather. In the event of an emergency\, please call 911.
URL:https://westsalemil.com/event/village-hall-closed/
LOCATION:IL
END:VEVENT
BEGIN:VEVENT
DTSTART;TZID=America/Chicago:20250103T080000
DTEND;TZID=America/Chicago:20250103T170000
DTSTAMP:20260419T154110
CREATED:20241223T205822Z
LAST-MODIFIED:20241223T205822Z
UID:1058-1735891200-1735923600@westsalemil.com
SUMMARY:Trash Pick Up
DESCRIPTION:Due to the New Year’s Day Holiday\, trash pick-up is delayed one day.  Typically West Salem trash pick-up is on Thursday\, but will be on Friday\, January 3\, 2025. You can view the Republic Schedule here.
URL:https://westsalemil.com/event/trash-pick-up-3/
LOCATION:IL
END:VEVENT
BEGIN:VEVENT
DTSTART;VALUE=DATE:20250101
DTEND;VALUE=DATE:20250102
DTSTAMP:20260419T154110
CREATED:20241127T152636Z
LAST-MODIFIED:20241127T175122Z
UID:837-1735689600-1735775999@westsalemil.com
SUMMARY:New Year's Day - Village Hall Closed
DESCRIPTION:Village Hall will be closed for New Year’s Day on Wednesday (01/01/25) \nUtility Payments may be made online\,  or placed in the mail slot just to the east of the entrance doors of Village Hall.
URL:https://westsalemil.com/event/new-years-day/
LOCATION:IL
END:VEVENT
BEGIN:VEVENT
DTSTART;VALUE=DATE:20241227
DTEND;VALUE=DATE:20241228
DTSTAMP:20260419T154110
CREATED:20241223T205049Z
LAST-MODIFIED:20241223T205946Z
UID:1056-1735257600-1735343999@westsalemil.com
SUMMARY:Trash Pick-Up
DESCRIPTION:Due to the Christmas Holiday\, trash pick-up is delayed one day.  Typically West Salem trash pick-up is on Thursday\, but will be on Friday\, December 27\, 2025.  You can view the Republic Schedule here .
URL:https://westsalemil.com/event/trash-pick-up-2/
LOCATION:IL
END:VEVENT
BEGIN:VEVENT
DTSTART;VALUE=DATE:20241224
DTEND;VALUE=DATE:20241226
DTSTAMP:20260419T154110
CREATED:20240919T163814Z
LAST-MODIFIED:20241127T174938Z
UID:684-1734998400-1735171199@westsalemil.com
SUMMARY:Christmas - Village Hall Closed
DESCRIPTION:Village Hall will be closed for Christmas on Tuesday and Wednesday (12/24/24 -12/25/24). \nUtility Payments may be made online\,  or placed in the mail slot just to the east of the entrance doors of Village Hall. \n 
URL:https://westsalemil.com/event/christmas/
LOCATION:IL
END:VEVENT
BEGIN:VEVENT
DTSTART;TZID=America/Chicago:20241217T183000
DTEND;TZID=America/Chicago:20241217T200000
DTSTAMP:20260419T154110
CREATED:20241204T160653Z
LAST-MODIFIED:20241204T160801Z
UID:998-1734460200-1734465600@westsalemil.com
SUMMARY:Village Board Meeting
DESCRIPTION:The Monthly meeting of the West Salem Board of Trustees is open to the public.
URL:https://westsalemil.com/event/village-board-meeting-21/
LOCATION:Village Hall\, 106 E. South Street\, West Salem\, IL\, 62476\, United States
END:VEVENT
BEGIN:VEVENT
DTSTART;TZID=America/Chicago:20241216T183000
DTEND;TZID=America/Chicago:20241216T200000
DTSTAMP:20260419T154110
CREATED:20240919T164830Z
LAST-MODIFIED:20241204T160259Z
UID:688-1734373800-1734379200@westsalemil.com
SUMMARY:RESCHEDULED - Village Board Meeting
DESCRIPTION:DUE TO A CONFLICT\, THE DECEMBER BOARD MEETING HAS BEEN RESCHEDULED TO DECEMBER 17\, 2024 (updated 12/4/24). The Monthly meetings of the West Salem Board of Trustees are open to the public.
URL:https://westsalemil.com/event/village-board-meeting-8/
LOCATION:Village Hall\, 106 E. South Street\, West Salem\, IL\, 62476\, United States
END:VEVENT
BEGIN:VEVENT
DTSTART;TZID=America/Chicago:20241202T183000
DTEND;TZID=America/Chicago:20241202T190000
DTSTAMP:20260419T154110
CREATED:20240710T215505Z
LAST-MODIFIED:20240710T215505Z
UID:501-1733164200-1733166000@westsalemil.com
SUMMARY:Fire Department Meeting
DESCRIPTION:The monthly meeting of the West Salem Volunteer Fire Department. They meet at the Fire Station next to Village Hall.
URL:https://westsalemil.com/event/fire-department-meeting-6/
LOCATION:Village Hall\, 106 E. South Street\, West Salem\, IL\, 62476\, United States
END:VEVENT
BEGIN:VEVENT
DTSTART;TZID=America/Chicago:20241130T170000
DTEND;TZID=America/Chicago:20241130T180000
DTSTAMP:20260419T154110
CREATED:20240621T203546Z
LAST-MODIFIED:20241021T155730Z
UID:445-1732986000-1732989600@westsalemil.com
SUMMARY:Trees on the Square
DESCRIPTION:An annual countdown to the lighting of live Christmas trees decorated by local community groups and residents.   Area churches form a joint choir to sings carols. Hot chocolate\, homemade cookies\, and maybe even an appearance of a visitor from the North Pole make this a great event to start the holiday season.
URL:https://westsalemil.com/event/christmas-tree-lighting-on-the-square/
LOCATION:Village Hall\, 106 E. South Street\, West Salem\, IL\, 62476\, United States
END:VEVENT
BEGIN:VEVENT
DTSTART;VALUE=DATE:20241129
DTEND;VALUE=DATE:20241130
DTSTAMP:20260419T154110
CREATED:20241115T202038Z
LAST-MODIFIED:20241115T202245Z
UID:826-1732838400-1732924799@westsalemil.com
SUMMARY:Trash Pick Up
DESCRIPTION:Due to the Thanksgiving Holiday\, trash pick-up is delayed one day.  Typically West Salem trash pick-up is on Thursday\, but will be on Friday\, the day after Thanksgiving.
URL:https://westsalemil.com/event/trash-pick-up/
LOCATION:IL
END:VEVENT
BEGIN:VEVENT
DTSTART;TZID=America/Chicago:20241128T113000
DTEND;TZID=America/Chicago:20241128T130000
DTSTAMP:20260419T154110
CREATED:20241108T161955Z
LAST-MODIFIED:20241108T161955Z
UID:814-1732793400-1732798800@westsalemil.com
SUMMARY:Community Thanksgiving Dinner
DESCRIPTION:The 19th Annual Community Thanksgiving Dinner will be held in the Hauser Room of the Moravian Church.  Dine-in or Carryout available.
URL:https://westsalemil.com/event/community-thanksgiving-dinner/
LOCATION:Moravian Church\, 257 E. Church Street\, West Salem\, IL\, 62476\, United States
END:VEVENT
BEGIN:VEVENT
DTSTART;VALUE=DATE:20241128
DTEND;VALUE=DATE:20241130
DTSTAMP:20260419T154110
CREATED:20240919T163446Z
LAST-MODIFIED:20241127T175025Z
UID:681-1732752000-1732924799@westsalemil.com
SUMMARY:Thanksgiving - Village Hall Closed
DESCRIPTION:Village Hall will be closed for Thanksgiving on Thursday and Friday (11/28/24 -11/29/24). \nUtility Payments may be made online\,  or placed in the mail slot just to the east of the entrance doors of Village Hall.
URL:https://westsalemil.com/event/thanksgiving/
LOCATION:Village Hall\, 106 E. South Street\, West Salem\, IL\, 62476\, United States
END:VEVENT
BEGIN:VEVENT
DTSTART;TZID=America/Chicago:20241125T183000
DTEND;TZID=America/Chicago:20241125T203000
DTSTAMP:20260419T154110
CREATED:20240621T203105Z
LAST-MODIFIED:20241031T134139Z
UID:443-1732559400-1732566600@westsalemil.com
SUMMARY:Village Board Meeting
DESCRIPTION:Monthly meeting of the West Salem Board of Trustees are open to the public.
URL:https://westsalemil.com/event/village-board-meeting-7/
LOCATION:Village Hall\, 106 E. South Street\, West Salem\, IL\, 62476\, United States
END:VEVENT
BEGIN:VEVENT
DTSTART;TZID=America/Chicago:20241118T080000
DTEND;TZID=America/Chicago:20241118T170000
DTSTAMP:20260419T154110
CREATED:20241106T155055Z
LAST-MODIFIED:20241106T155055Z
UID:809-1731916800-1731949200@westsalemil.com
SUMMARY:Acceptance of Candidate Petitions
DESCRIPTION:West Salem Village Hall will be accepting candidate petitions for the Consolidated Election to be held on April 1\, 2025 for the following offices: \nVillage Trustees (3)          4 -year Term \nLibrary Trustee (1)           4- year Term \nLibrary Trustee (3)           2- year Unexpired Term \nCandidate petitions will be accepted at Village Hall until 5:00 PM on Monday November 18\, 2024. \n 
URL:https://westsalemil.com/event/acceptance-of-candidate-petitions-5/
LOCATION:Village Hall\, 106 E. South Street\, West Salem\, IL\, 62476\, United States
END:VEVENT
BEGIN:VEVENT
DTSTART;TZID=America/Chicago:20241115T080000
DTEND;TZID=America/Chicago:20241115T160000
DTSTAMP:20260419T154110
CREATED:20241106T154737Z
LAST-MODIFIED:20241106T154737Z
UID:807-1731657600-1731686400@westsalemil.com
SUMMARY:Acceptance of Candidate Petitions
DESCRIPTION:West Salem Village Hall will be accepting candidate petitions for the Consolidated Election to be held on April 1\, 2025 for the following offices: \nVillage Trustees (3)          4 -year Term \nLibrary Trustee (1)           4- year Term \nLibrary Trustee (3)           2- year Unexpired Term \nCandidate petitions will be accepted during normal business hours beginning Tuesday\, November 12\, 2024\, through Monday November 18\, 2024.
URL:https://westsalemil.com/event/acceptance-of-candidate-petitions-4/
LOCATION:Village Hall\, 106 E. South Street\, West Salem\, IL\, 62476\, United States
END:VEVENT
BEGIN:VEVENT
DTSTART;TZID=America/Chicago:20241114T080000
DTEND;TZID=America/Chicago:20241114T160000
DTSTAMP:20260419T154110
CREATED:20241106T154604Z
LAST-MODIFIED:20241106T154604Z
UID:805-1731571200-1731600000@westsalemil.com
SUMMARY:Acceptance of Candidate Petitions
DESCRIPTION:West Salem Village Hall will be accepting candidate petitions for the Consolidated Election to be held on April 1\, 2025 for the following offices: \nVillage Trustees (3)          4 -year Term \nLibrary Trustee (1)           4- year Term \nLibrary Trustee (3)           2- year Unexpired Term \nCandidate petitions will be accepted during normal business hours beginning Tuesday\, November 12\, 2024\, through Monday November 18\, 2024.
URL:https://westsalemil.com/event/acceptance-of-candidate-petitions-3/
LOCATION:Village Hall\, 106 E. South Street\, West Salem\, IL\, 62476\, United States
END:VEVENT
BEGIN:VEVENT
DTSTART;TZID=America/Chicago:20241113T080000
DTEND;TZID=America/Chicago:20241113T160000
DTSTAMP:20260419T154110
CREATED:20241106T154426Z
LAST-MODIFIED:20241106T155203Z
UID:803-1731484800-1731513600@westsalemil.com
SUMMARY:Acceptance of Candidate Petitions
DESCRIPTION:West Salem Village Hall will be accepting candidate petitions for the Consolidated Election to be held on April 1\, 2025 for the following offices: \nVillage Trustees (3)          4 -year Term \nLibrary Trustee (1)           4- year Term \nLibrary Trustee (3)           2- year Unexpired Term \nCandidate petitions will be accepted during normal business hours beginning Tuesday\, November 12\, 2024\, through Monday November 18\, 2024. \nThe West Salem Village Hall is located at 106 E. South Street\, West Salem\, Illinois.
URL:https://westsalemil.com/event/acceptance-of-candidate-petitions-2/
LOCATION:Village Hall\, 106 E. South Street\, West Salem\, IL\, 62476\, United States
END:VEVENT
BEGIN:VEVENT
DTSTART;TZID=America/Chicago:20241112T080000
DTEND;TZID=America/Chicago:20241112T160000
DTSTAMP:20260419T154110
CREATED:20241106T154113Z
LAST-MODIFIED:20241106T154236Z
UID:801-1731398400-1731427200@westsalemil.com
SUMMARY:Acceptance of Candidate Petitions
DESCRIPTION:West Salem Village Hall will be accepting candidate petitions for the Consolidated Election to be held on April 1\, 2025 for the following offices: \nVillage Trustees (3)          4 -year Term \nLibrary Trustee (1)           4- year Term \nLibrary Trustee (3)           2- year Unexpired Term \nCandidate petitions will be accepted during normal business hours beginning Tuesday\, November 12\, 2024\, through Monday November 18\, 2024. \nThe West Salem Village Hall is located at 106 E. South Street\, West Salem\, Illinois.
URL:https://westsalemil.com/event/acceptance-of-candidate-petitions/
LOCATION:Village Hall\, 106 E. South Street\, West Salem\, IL\, 62476\, United States
END:VEVENT
BEGIN:VEVENT
DTSTART;VALUE=DATE:20241111
DTEND;VALUE=DATE:20241112
DTSTAMP:20260419T154110
CREATED:20240621T202831Z
LAST-MODIFIED:20240621T202831Z
UID:441-1731283200-1731369599@westsalemil.com
SUMMARY:Veteran's Day
DESCRIPTION:Village Hall Will be closed on Monday\, November 11\, 2024 in Observance of Labor Day.
URL:https://westsalemil.com/event/veterans-day/
LOCATION:IL
END:VEVENT
BEGIN:VEVENT
DTSTART;TZID=America/Chicago:20241105T060000
DTEND;TZID=America/Chicago:20241105T190000
DTSTAMP:20260419T154110
CREATED:20241028T202458Z
LAST-MODIFIED:20241028T204906Z
UID:763-1730786400-1730833200@westsalemil.com
SUMMARY:Election Day
DESCRIPTION:Village Hall will be open for business. \nResidents of West Salem may cast their ballots at the Moravian Church. More information can be found here. \nOn the ballot to be elected: \n\nPresident/Vice-President.\nRepresentative in Congress 12th District.\nState Sentator 58th District.\nState Representative 116th District.\nCircuit Clerk.\nState’s Attorney.\nCoroner.\nCounty Commissioner.\nAdvisory Questions.
URL:https://westsalemil.com/event/election-day/
LOCATION:Moravian Church\, 257 E. Church Street\, West Salem\, IL\, 62476\, United States
END:VEVENT
END:VCALENDAR